BEGIN:VCALENDAR
METHOD:PUBLISH
VERSION:2.0
PRODID:-//Edison Ford Estate//Etiquette Class//EN
BEGIN:VEVENT
UID:69e8ec50360bb
DTSTART:20260516T110000
DTEND:20260516T010000
DTSTAMP:11:00:00
SUMMARY:Edison Ford Estate:Etiquette Class
X-ALT-DESC;FMTTYPE=text/html:Offered several times each season, Etiquette classes are for children ages 6-12. These classes are two-hour sessions in good manners and teach proper introduction, handshakes and dining etiquette during a three-course meal. Each student will receive a workbook and certificate of completion. All classes run from 11 a.m. to 1 p.m. Parents should plan to drop children off for the class.\n\nDates:\nSaturday, October 4, 2025\nSaturday, January 31, 2026\nSaturday, March 28, 2026\nSaturday, May 16, 2026\n\nCost: members $85; non-members $95 per class\n\n<a href="https://ecommerce.edisonfordwinterestates.org/mainstore?vid=0&amp;cid=1264">Click here to register. </a>\n\n<a href="https://www.edisonfordwinterestates.org/wp-content/uploads/2024/08/Etiquette-Class-Menu.pdf">Etiquette Class Menu</a>
END:VEVENT
END:VCALENDAREND:VCALENDAR